BEGIN:VCALENDAR
VERSION:2.0
PRODID:-//Pennsylvania Women Work - ECPv6.15.20//NONSGML v1.0//EN
CALSCALE:GREGORIAN
METHOD:PUBLISH
X-ORIGINAL-URL:https://www.pawomenwork.org
X-WR-CALDESC:Events for Pennsylvania Women Work
REFRESH-INTERVAL;VALUE=DURATION:PT1H
X-Robots-Tag:noindex
X-PUBLISHED-TTL:PT1H
BEGIN:VTIMEZONE
TZID:America/New_York
BEGIN:DAYLIGHT
TZOFFSETFROM:-0500
TZOFFSETTO:-0400
TZNAME:EDT
DTSTART:20240310T070000
END:DAYLIGHT
BEGIN:STANDARD
TZOFFSETFROM:-0400
TZOFFSETTO:-0500
TZNAME:EST
DTSTART:20241103T060000
END:STANDARD
BEGIN:DAYLIGHT
TZOFFSETFROM:-0500
TZOFFSETTO:-0400
TZNAME:EDT
DTSTART:20250309T070000
END:DAYLIGHT
BEGIN:STANDARD
TZOFFSETFROM:-0400
TZOFFSETTO:-0500
TZNAME:EST
DTSTART:20251102T060000
END:STANDARD
BEGIN:DAYLIGHT
TZOFFSETFROM:-0500
TZOFFSETTO:-0400
TZNAME:EDT
DTSTART:20260308T070000
END:DAYLIGHT
BEGIN:STANDARD
TZOFFSETFROM:-0400
TZOFFSETTO:-0500
TZNAME:EST
DTSTART:20261101T060000
END:STANDARD
END:VTIMEZONE
BEGIN:VEVENT
DTSTART;TZID=America/New_York:20251029T100000
DTEND;TZID=America/New_York:20251029T231500
DTSTAMP:20260423T084410
CREATED:20250930T171232Z
LAST-MODIFIED:20251028T170144Z
UID:10000056-1761732000-1761779700@www.pawomenwork.org
SUMMARY:Financial Wellness Series - Budgeting
DESCRIPTION:Join us for our upcoming Financial Wellness series held in partnership with PNC Bank! Learn key budgeting skills and tips from industry experts during the first of this four-part series. \nOctober 29 | 10-11:15 a.m. \nRegistration for this session is closed.
URL:https://www.pawomenwork.org/event/financial-wellness-series-budgeting/
LOCATION:PA
CATEGORIES:Client Services
ATTACH;FMTTYPE=image/jpeg:https://www.pawomenwork.org/wp-content/uploads/2025/04/CLIENT-SERVICES-TEMPLATE-3.jpg
END:VEVENT
END:VCALENDAR