BEGIN:VCALENDAR
VERSION:2.0
PRODID:-//Pennsylvania Women Work - ECPv6.15.20//NONSGML v1.0//EN
CALSCALE:GREGORIAN
METHOD:PUBLISH
X-ORIGINAL-URL:https://www.pawomenwork.org
X-WR-CALDESC:Events for Pennsylvania Women Work
REFRESH-INTERVAL;VALUE=DURATION:PT1H
X-Robots-Tag:noindex
X-PUBLISHED-TTL:PT1H
BEGIN:VTIMEZONE
TZID:America/New_York
BEGIN:DAYLIGHT
TZOFFSETFROM:-0500
TZOFFSETTO:-0400
TZNAME:EDT
DTSTART:20250309T070000
END:DAYLIGHT
BEGIN:STANDARD
TZOFFSETFROM:-0400
TZOFFSETTO:-0500
TZNAME:EST
DTSTART:20251102T060000
END:STANDARD
BEGIN:DAYLIGHT
TZOFFSETFROM:-0500
TZOFFSETTO:-0400
TZNAME:EDT
DTSTART:20260308T070000
END:DAYLIGHT
BEGIN:STANDARD
TZOFFSETFROM:-0400
TZOFFSETTO:-0500
TZNAME:EST
DTSTART:20261101T060000
END:STANDARD
BEGIN:DAYLIGHT
TZOFFSETFROM:-0500
TZOFFSETTO:-0400
TZNAME:EDT
DTSTART:20270314T070000
END:DAYLIGHT
BEGIN:STANDARD
TZOFFSETFROM:-0400
TZOFFSETTO:-0500
TZNAME:EST
DTSTART:20271107T060000
END:STANDARD
END:VTIMEZONE
BEGIN:VEVENT
DTSTART;TZID=America/New_York:20260316T180000
DTEND;TZID=America/New_York:20260320T204500
DTSTAMP:20260424T171401
CREATED:20260216T140641Z
LAST-MODIFIED:20260216T140641Z
UID:10000071-1773684000-1774039500@www.pawomenwork.org
SUMMARY:New Choices
DESCRIPTION:New Choices is offered twice monthly throughout the year as a five-day\, virtual group workshop. During this program\, participants share their experiences\, learn from the facilitator and one another\, and build their job search  confidence. In addition\, participants receive one-on-one coaching to identify their goals\, assistance in developing their resume\, and the support they need to overcome barriers to employment or career growth.\n\nMarch 16 – 20 \nMonday – Friday \n6:00 p.m. – 8:45 p.m. \n  \nTo participate in New Choices\, get started with a career coach by signing up here.  \nAlready connected with a career coach and want to take New Choices? Contact your career coach to register. 
URL:https://www.pawomenwork.org/event/new-choices-26/
LOCATION:Virtual
CATEGORIES:Career Development Workshops
ATTACH;FMTTYPE=image/jpeg:https://www.pawomenwork.org/wp-content/uploads/2025/03/CAREER-DEVELOPMENT-WORKSHOPS-4.jpg
END:VEVENT
BEGIN:VEVENT
DTSTART;TZID=America/New_York:20260317T100000
DTEND;TZID=America/New_York:20260317T113000
DTSTAMP:20260424T171401
CREATED:20260216T140340Z
LAST-MODIFIED:20260316T211019Z
UID:10000070-1773741600-1773747000@www.pawomenwork.org
SUMMARY:A Closer Look: Freeing Yourself from the Perfectionist Hustle
DESCRIPTION:Freeing Yourself from the Perfectionist Hustle with Merilee Smith is an interactive experience that explores the hidden toll of perfectionism and the impossible expectations many women place on themselves. While perfectionism can drive achievement\, it often drains energy\, confidence\, and joy—but that cycle can be broken. Through storytelling\, humor\, and her Inner Board Members™ framework\, Merilee helps participants recognize the internal voices that fuel stress and choose ones that cultivate calm\, clarity\, and confidence. Walk away empowered to lead from a grounded\, aligned place where ambition and well-being thrive together. \nRegistration for this workshop is closed.
URL:https://www.pawomenwork.org/event/a-closer-look-freeing-yourself-from-perfectionist-hustle/
LOCATION:PA
CATEGORIES:Client Services
ATTACH;FMTTYPE=image/jpeg:https://www.pawomenwork.org/wp-content/uploads/2026/02/CLIENT-SERVICES-TEMPLATE-15.jpg
END:VEVENT
END:VCALENDAR