BEGIN:VCALENDAR
VERSION:2.0
PRODID:-//Pennsylvania Women Work - ECPv6.15.20//NONSGML v1.0//EN
CALSCALE:GREGORIAN
METHOD:PUBLISH
X-ORIGINAL-URL:https://www.pawomenwork.org
X-WR-CALDESC:Events for Pennsylvania Women Work
REFRESH-INTERVAL;VALUE=DURATION:PT1H
X-Robots-Tag:noindex
X-PUBLISHED-TTL:PT1H
BEGIN:VTIMEZONE
TZID:America/New_York
BEGIN:DAYLIGHT
TZOFFSETFROM:-0500
TZOFFSETTO:-0400
TZNAME:EDT
DTSTART:20250309T070000
END:DAYLIGHT
BEGIN:STANDARD
TZOFFSETFROM:-0400
TZOFFSETTO:-0500
TZNAME:EST
DTSTART:20251102T060000
END:STANDARD
BEGIN:DAYLIGHT
TZOFFSETFROM:-0500
TZOFFSETTO:-0400
TZNAME:EDT
DTSTART:20260308T070000
END:DAYLIGHT
BEGIN:STANDARD
TZOFFSETFROM:-0400
TZOFFSETTO:-0500
TZNAME:EST
DTSTART:20261101T060000
END:STANDARD
BEGIN:DAYLIGHT
TZOFFSETFROM:-0500
TZOFFSETTO:-0400
TZNAME:EDT
DTSTART:20270314T070000
END:DAYLIGHT
BEGIN:STANDARD
TZOFFSETFROM:-0400
TZOFFSETTO:-0500
TZNAME:EST
DTSTART:20271107T060000
END:STANDARD
END:VTIMEZONE
BEGIN:VEVENT
DTSTART;TZID=America/New_York:20260624T183000
DTEND;TZID=America/New_York:20261125T200000
DTSTAMP:20260423T174626
CREATED:20260416T164047Z
LAST-MODIFIED:20260416T164047Z
UID:10000090-1782325800-1795636800@www.pawomenwork.org
SUMMARY:Next Chapter Career Circle Group
DESCRIPTION:Join us for PA Women Work’s first-ever Next Chapter Career Circle\, a monthly peer support group for women age 50+ seeking career advancement or transition. \n\nAs a group\, we will work together to…\n\n\nStrengthen professional/technical skills\nFind support with career growth\, job search\nShare experiences and resources\nCelebrate progress and small wins\nBuild your confidence\n\nGroup meets monthly on the last Wednesday of the month from June 24 – November 25 \n6:30 PM – 8:00 PM | Virtual & In person participation available \n\n\nRegister here!
URL:https://www.pawomenwork.org/event/next_chapter/
LOCATION:Virtual
CATEGORIES:Career Development Workshops
ATTACH;FMTTYPE=image/jpeg:https://www.pawomenwork.org/wp-content/uploads/2026/04/CAREER-DEVELOPMENT-WORKSHOPS-10.jpg
END:VEVENT
END:VCALENDAR