BEGIN:VCALENDAR
VERSION:2.0
PRODID:-//Pennsylvania Women Work - ECPv6.15.20//NONSGML v1.0//EN
CALSCALE:GREGORIAN
METHOD:PUBLISH
X-WR-CALNAME:Pennsylvania Women Work
X-ORIGINAL-URL:https://www.pawomenwork.org
X-WR-CALDESC:Events for Pennsylvania Women Work
REFRESH-INTERVAL;VALUE=DURATION:PT1H
X-Robots-Tag:noindex
X-PUBLISHED-TTL:PT1H
BEGIN:VTIMEZONE
TZID:America/New_York
BEGIN:DAYLIGHT
TZOFFSETFROM:-0500
TZOFFSETTO:-0400
TZNAME:EDT
DTSTART:20240310T070000
END:DAYLIGHT
BEGIN:STANDARD
TZOFFSETFROM:-0400
TZOFFSETTO:-0500
TZNAME:EST
DTSTART:20241103T060000
END:STANDARD
BEGIN:DAYLIGHT
TZOFFSETFROM:-0500
TZOFFSETTO:-0400
TZNAME:EDT
DTSTART:20250309T070000
END:DAYLIGHT
BEGIN:STANDARD
TZOFFSETFROM:-0400
TZOFFSETTO:-0500
TZNAME:EST
DTSTART:20251102T060000
END:STANDARD
BEGIN:DAYLIGHT
TZOFFSETFROM:-0500
TZOFFSETTO:-0400
TZNAME:EDT
DTSTART:20260308T070000
END:DAYLIGHT
BEGIN:STANDARD
TZOFFSETFROM:-0400
TZOFFSETTO:-0500
TZNAME:EST
DTSTART:20261101T060000
END:STANDARD
END:VTIMEZONE
BEGIN:VEVENT
DTSTART;TZID=America/New_York:20250804T093000
DTEND;TZID=America/New_York:20250808T121500
DTSTAMP:20260421T090441
CREATED:20250618T113926Z
LAST-MODIFIED:20250618T113926Z
UID:10000038-1754299800-1754655300@www.pawomenwork.org
SUMMARY:New Choices
DESCRIPTION:New Choices is offered every other week throughout the year as a five-day\, virtual workshop. During this program\, participants receive one-on-one coaching to identify their goals\, assistance in developing their resume\, and get the support they need to overcome barriers to employment or career growth. New Choices also incorporates group discussions where participants share their experiences\, learn from one another\, and build their confidence. \n  \nAugust 4 – 8 \nMonday – Friday \n9:30 a.m. – 12:15 p.m. \n  \nTo participate in New Choices\, get started with a career coach by signing up here.  \nAlready connected with a career coach and want to take New Choices? Contact your career coach to register. 
URL:https://www.pawomenwork.org/event/new-choices-13/
LOCATION:Virtual
CATEGORIES:Career Development Workshops
ATTACH;FMTTYPE=image/jpeg:https://www.pawomenwork.org/wp-content/uploads/2025/03/CAREER-DEVELOPMENT-WORKSHOPS-5.jpg
END:VEVENT
BEGIN:VEVENT
DTSTART;TZID=America/New_York:20250819T100000
DTEND;TZID=America/New_York:20250819T113000
DTSTAMP:20260421T090441
CREATED:20250618T114732Z
LAST-MODIFIED:20250618T114732Z
UID:10000040-1755597600-1755603000@www.pawomenwork.org
SUMMARY:A Closer Look: Using LinkedIn and Social Media in the Job Search
DESCRIPTION:During this A Closer Look session\, join Director of Communications\, Abby Swalga\, to learn how to develop a successful LinkedIn profile\, use LinkedIn to build and strengthen connections\, look for job opportunities\, and more. Bring your questions\, and we’ll head to LinkedIn to answer them! \nREGISTER HERE
URL:https://www.pawomenwork.org/event/a-closer-look-using-linkedin-and-social-media-in-the-job-search-2/
CATEGORIES:Client Services
ATTACH;FMTTYPE=image/png:https://www.pawomenwork.org/wp-content/uploads/2025/02/CLIENT-SERVICES-TEMPLATE-2.png
END:VEVENT
BEGIN:VEVENT
DTSTART;TZID=America/New_York:20250825T180000
DTEND;TZID=America/New_York:20250829T204500
DTSTAMP:20260421T090441
CREATED:20250618T114052Z
LAST-MODIFIED:20250618T114052Z
UID:10000039-1756144800-1756500300@www.pawomenwork.org
SUMMARY:New Choices
DESCRIPTION:New Choices is offered every other week throughout the year as a five-day\, virtual workshop. During this program\, participants receive one-on-one coaching to identify their goals\, assistance in developing their resume\, and get the support they need to overcome barriers to employment or career growth. New Choices also incorporates group discussions where participants share their experiences\, learn from one another\, and build their confidence. \nAugust 25 – 28 \nMonday – Friday \n6:00 p.m. – 8:45 p.m. \n  \nTo participate in New Choices\, get started with a career coach by signing up here.  \nAlready connected with a career coach and want to take New Choices? Contact your career coach to register. 
URL:https://www.pawomenwork.org/event/new-choices-14/
LOCATION:Virtual
CATEGORIES:Career Development Workshops
ATTACH;FMTTYPE=image/jpeg:https://www.pawomenwork.org/wp-content/uploads/2025/03/CAREER-DEVELOPMENT-WORKSHOPS-4.jpg
END:VEVENT
END:VCALENDAR