BEGIN:VCALENDAR
VERSION:2.0
PRODID:-//Pennsylvania Women Work - ECPv6.15.20//NONSGML v1.0//EN
CALSCALE:GREGORIAN
METHOD:PUBLISH
X-ORIGINAL-URL:https://www.pawomenwork.org
X-WR-CALDESC:Events for Pennsylvania Women Work
REFRESH-INTERVAL;VALUE=DURATION:PT1H
X-Robots-Tag:noindex
X-PUBLISHED-TTL:PT1H
BEGIN:VTIMEZONE
TZID:America/New_York
BEGIN:DAYLIGHT
TZOFFSETFROM:-0500
TZOFFSETTO:-0400
TZNAME:EDT
DTSTART:20240310T070000
END:DAYLIGHT
BEGIN:STANDARD
TZOFFSETFROM:-0400
TZOFFSETTO:-0500
TZNAME:EST
DTSTART:20241103T060000
END:STANDARD
BEGIN:DAYLIGHT
TZOFFSETFROM:-0500
TZOFFSETTO:-0400
TZNAME:EDT
DTSTART:20250309T070000
END:DAYLIGHT
BEGIN:STANDARD
TZOFFSETFROM:-0400
TZOFFSETTO:-0500
TZNAME:EST
DTSTART:20251102T060000
END:STANDARD
BEGIN:DAYLIGHT
TZOFFSETFROM:-0500
TZOFFSETTO:-0400
TZNAME:EDT
DTSTART:20260308T070000
END:DAYLIGHT
BEGIN:STANDARD
TZOFFSETFROM:-0400
TZOFFSETTO:-0500
TZNAME:EST
DTSTART:20261101T060000
END:STANDARD
END:VTIMEZONE
BEGIN:VEVENT
DTSTART;TZID=America/New_York:20250908T093000
DTEND;TZID=America/New_York:20250912T121500
DTSTAMP:20260423T084259
CREATED:20250724T184321Z
LAST-MODIFIED:20250904T194845Z
UID:10000045-1757323800-1757679300@www.pawomenwork.org
SUMMARY:New Choices
DESCRIPTION:New Choices is offered twice monthly throughout the year as a five-day\, virtual group workshop. During this program\, participants share their experiences\, learn from the facilitator and one another\, and build their job search  confidence. In addition\, participants receive one-on-one coaching to identify their goals\, assistance in developing their resume\, and the support they need to overcome barriers to employment or career growth.\n  \nSeptember 8 – 12 \nMonday – Friday \n9:30 a.m. – 12:15 p.m. \n  \nTo participate in New Choices\, get started with a career coach by signing up here.  \nAlready connected with a career coach and want to take New Choices? Contact your career coach to register. 
URL:https://www.pawomenwork.org/event/new-choices-15/
LOCATION:Virtual
CATEGORIES:Career Development Workshops
ATTACH;FMTTYPE=image/jpeg:https://www.pawomenwork.org/wp-content/uploads/2025/03/CAREER-DEVELOPMENT-WORKSHOPS-5.jpg
END:VEVENT
BEGIN:VEVENT
DTSTART;TZID=America/New_York:20250916T100000
DTEND;TZID=America/New_York:20250916T113000
DTSTAMP:20260423T084259
CREATED:20250724T183823Z
LAST-MODIFIED:20250902T190640Z
UID:10000044-1758016800-1758022200@www.pawomenwork.org
SUMMARY:A Closer Look: Expanding Your Circle: Networking for Success
DESCRIPTION:  \nResearch shows that the majority of jobs are filled through a personal connection.  Networking is critical to success in the job search and career journey.  Join us for our virtual A Closer Look workshop\, led by PA Women Work’s Director of Programs\, Liz Gryger\, and explore networking approaches and tips to expand your circle. \nREGISTER HERE
URL:https://www.pawomenwork.org/event/a-closer-look-expanding-your-circle-networking-for-success-2/
LOCATION:PA
CATEGORIES:Client Services
ATTACH;FMTTYPE=image/jpeg:https://www.pawomenwork.org/wp-content/uploads/2025/07/CLIENT-SERVICES-TEMPLATE-10.jpg
END:VEVENT
BEGIN:VEVENT
DTSTART;TZID=America/New_York:20250919T090000
DTEND;TZID=America/New_York:20250919T163000
DTSTAMP:20260423T084259
CREATED:20250724T151359Z
LAST-MODIFIED:20250724T151502Z
UID:10000041-1758272400-1758299400@www.pawomenwork.org
SUMMARY:Career Kick-Start
DESCRIPTION:This one-day event is jam-packed with job-search tips\, resume assistance\, mock interviews\, confidence-boosting tips and so much more.\n\nLearn key job search skills.\nPractice interviewing one-on-one with a professional.\nFine-tune your resume.\n\nClick Here to Register!
URL:https://www.pawomenwork.org/event/career-kick-start-sep-2025/
LOCATION:Penn State Greater Allegheny Campus\, 4000 University Dr.\, McKeesport\, PA\, 15132
CATEGORIES:Career Development Workshops
ATTACH;FMTTYPE=image/jpeg:https://www.pawomenwork.org/wp-content/uploads/2025/03/CAREER-DEVELOPMENT-WORKSHOPS-2.jpg
END:VEVENT
BEGIN:VEVENT
DTSTART;TZID=America/New_York:20250922T180000
DTEND;TZID=America/New_York:20250926T204500
DTSTAMP:20260423T084259
CREATED:20250724T184447Z
LAST-MODIFIED:20250904T194652Z
UID:10000046-1758564000-1758919500@www.pawomenwork.org
SUMMARY:New Choices
DESCRIPTION:New Choices is offered twice monthly throughout the year as a five-day\, virtual group workshop. During this program\, participants share their experiences\, learn from the facilitator and one another\, and build their job search  confidence. In addition\, participants receive one-on-one coaching to identify their goals\, assistance in developing their resume\, and the support they need to overcome barriers to employment or career growth.\n\nSeptember 22 – 26 \nMonday – Friday \n6:00 p.m. – 8:45 p.m. \n  \nTo participate in New Choices\, get started with a career coach by signing up here.  \nAlready connected with a career coach and want to take New Choices? Contact your career coach to register. 
URL:https://www.pawomenwork.org/event/new-choices-16/
LOCATION:Virtual
CATEGORIES:Career Development Workshops
ATTACH;FMTTYPE=image/jpeg:https://www.pawomenwork.org/wp-content/uploads/2025/03/CAREER-DEVELOPMENT-WORKSHOPS-4.jpg
END:VEVENT
BEGIN:VEVENT
DTSTART;TZID=America/New_York:20250927T090000
DTEND;TZID=America/New_York:20250927T153000
DTSTAMP:20260423T084259
CREATED:20250724T145804Z
LAST-MODIFIED:20250724T145804Z
UID:10000043-1758963600-1758987000@www.pawomenwork.org
SUMMARY:Communicating for Success
DESCRIPTION:Communicating for Success participants learn critical professional communication and skills transferable to any job.\n\nUsing industry-recognized curriculum provided by DDI\, during the course\, job-seekers will… \n\nMaster key principles of professional communication\nBuild skills to create strong relationships with colleagues and customers\nLearn to resolve conflicts with customers or colleagues\nDevelop critical skills to stay calm under pressure and provide effective feedback to others\n\nParticipants receive a professional certification for this highly renowned course and are connected directly to local employers and recruiters. \n\nClick here to register!
URL:https://www.pawomenwork.org/event/communicating-for-success-sep-2025/
LOCATION:UPMC Health Plan Neighborhood Center\, 6401 Penn Ave.\, Pittsburgh\, PA\, 15206\, United States
CATEGORIES:Career Development Workshops
ATTACH;FMTTYPE=image/jpeg:https://www.pawomenwork.org/wp-content/uploads/2025/04/CAREER-DEVELOPMENT-WORKSHOPS-6.jpg
END:VEVENT
BEGIN:VEVENT
DTSTART;TZID=America/New_York:20250929T093000
DTEND;TZID=America/New_York:20251003T121500
DTSTAMP:20260423T084259
CREATED:20250724T184635Z
LAST-MODIFIED:20250904T194625Z
UID:10000047-1759138200-1759493700@www.pawomenwork.org
SUMMARY:New Choices
DESCRIPTION:New Choices is offered twice monthly throughout the year as a five-day\, virtual group workshop. During this program\, participants share their experiences\, learn from the facilitator and one another\, and build their job search  confidence. In addition\, participants receive one-on-one coaching to identify their goals\, assistance in developing their resume\, and the support they need to overcome barriers to employment or career growth.\n\nSeptember 29 – October 3 \nMonday – Friday \n9:30 a.m. – 12:15 p.m. \n  \nTo participate in New Choices\, get started with a career coach by signing up here.  \nAlready connected with a career coach and want to take New Choices? Contact your career coach to register. 
URL:https://www.pawomenwork.org/event/new-choices-17/
LOCATION:Virtual
CATEGORIES:Career Development Workshops
ATTACH;FMTTYPE=image/jpeg:https://www.pawomenwork.org/wp-content/uploads/2025/03/CAREER-DEVELOPMENT-WORKSHOPS-5.jpg
END:VEVENT
END:VCALENDAR