BEGIN:VCALENDAR
VERSION:2.0
PRODID:-//Pennsylvania Women Work - ECPv6.15.20//NONSGML v1.0//EN
CALSCALE:GREGORIAN
METHOD:PUBLISH
X-ORIGINAL-URL:https://www.pawomenwork.org
X-WR-CALDESC:Events for Pennsylvania Women Work
REFRESH-INTERVAL;VALUE=DURATION:PT1H
X-Robots-Tag:noindex
X-PUBLISHED-TTL:PT1H
BEGIN:VTIMEZONE
TZID:America/New_York
BEGIN:DAYLIGHT
TZOFFSETFROM:-0500
TZOFFSETTO:-0400
TZNAME:EDT
DTSTART:20240310T070000
END:DAYLIGHT
BEGIN:STANDARD
TZOFFSETFROM:-0400
TZOFFSETTO:-0500
TZNAME:EST
DTSTART:20241103T060000
END:STANDARD
BEGIN:DAYLIGHT
TZOFFSETFROM:-0500
TZOFFSETTO:-0400
TZNAME:EDT
DTSTART:20250309T070000
END:DAYLIGHT
BEGIN:STANDARD
TZOFFSETFROM:-0400
TZOFFSETTO:-0500
TZNAME:EST
DTSTART:20251102T060000
END:STANDARD
BEGIN:DAYLIGHT
TZOFFSETFROM:-0500
TZOFFSETTO:-0400
TZNAME:EDT
DTSTART:20260308T070000
END:DAYLIGHT
BEGIN:STANDARD
TZOFFSETFROM:-0400
TZOFFSETTO:-0500
TZNAME:EST
DTSTART:20261101T060000
END:STANDARD
END:VTIMEZONE
BEGIN:VEVENT
DTSTART;TZID=America/New_York:20250508T190000
DTEND;TZID=America/New_York:20250508T190000
DTSTAMP:20260423T073934
CREATED:20250114T221722Z
LAST-MODIFIED:20250319T013015Z
UID:10000006-1746730800-1746730800@www.pawomenwork.org
SUMMARY:Working 9-to-5 BINGO!
DESCRIPTION:Working 9-to-5 Bingo is a celebration of the trailblazing women who started the work in the 1970s that Pennsylvania Women Work continues today. During the event\, play Bingo for chances to win some incredible prizes! On top of that\, we’ll have a cash bar\, a DJ playing 1970s tunes\, a 50/50 raffle\, yummy appetizers\, and a chance to chat and connect with friends. \nClick here for tickets! \n 
URL:https://www.pawomenwork.org/event/working-9-to-5-bingo/
LOCATION:The Grand Hall at The Priory\, 614 Pressley St.\, Pittsburgh\, PA\, 15212\, United States
CATEGORIES:Community Events
ATTACH;FMTTYPE=image/png:https://www.pawomenwork.org/wp-content/uploads/2025/01/COMMUNITY-EVENTS-2.png
END:VEVENT
END:VCALENDAR