BEGIN:VCALENDAR
VERSION:2.0
PRODID:-//Pennsylvania Women Work - ECPv6.15.20//NONSGML v1.0//EN
CALSCALE:GREGORIAN
METHOD:PUBLISH
X-WR-CALNAME:Pennsylvania Women Work
X-ORIGINAL-URL:https://www.pawomenwork.org
X-WR-CALDESC:Events for Pennsylvania Women Work
REFRESH-INTERVAL;VALUE=DURATION:PT1H
X-Robots-Tag:noindex
X-PUBLISHED-TTL:PT1H
BEGIN:VTIMEZONE
TZID:America/New_York
BEGIN:DAYLIGHT
TZOFFSETFROM:-0500
TZOFFSETTO:-0400
TZNAME:EDT
DTSTART:20250309T070000
END:DAYLIGHT
BEGIN:STANDARD
TZOFFSETFROM:-0400
TZOFFSETTO:-0500
TZNAME:EST
DTSTART:20251102T060000
END:STANDARD
BEGIN:DAYLIGHT
TZOFFSETFROM:-0500
TZOFFSETTO:-0400
TZNAME:EDT
DTSTART:20260308T070000
END:DAYLIGHT
BEGIN:STANDARD
TZOFFSETFROM:-0400
TZOFFSETTO:-0500
TZNAME:EST
DTSTART:20261101T060000
END:STANDARD
BEGIN:DAYLIGHT
TZOFFSETFROM:-0500
TZOFFSETTO:-0400
TZNAME:EDT
DTSTART:20270314T070000
END:DAYLIGHT
BEGIN:STANDARD
TZOFFSETFROM:-0400
TZOFFSETTO:-0500
TZNAME:EST
DTSTART:20271107T060000
END:STANDARD
END:VTIMEZONE
BEGIN:VEVENT
DTSTART;TZID=America/New_York:20260507T190000
DTEND;TZID=America/New_York:20260507T213000
DTSTAMP:20260423T055433
CREATED:20260304T122621Z
LAST-MODIFIED:20260416T200701Z
UID:10000075-1778180400-1778189400@www.pawomenwork.org
SUMMARY:Working 9-to-5 BINGO!
DESCRIPTION:Working 9-to-5 Bingo is a celebration of the trailblazing women who started the work in the 1970s that Pennsylvania Women Work continues today. During the event\, play Bingo for chances to win some incredible prizes! On top of that\, we’ll have a cash bar\, a DJ playing 1970s tunes\, a 50/50 raffle\, yummy appetizers\, and a chance to chat and connect with friends. \nThis event is sold out!
URL:https://www.pawomenwork.org/event/working-9-to-5-bingo-2/
LOCATION:The Grand Hall at The Priory\, 614 Pressley St.\, Pittsburgh\, PA\, 15212\, United States
CATEGORIES:Community Events
ATTACH;FMTTYPE=image/jpeg:https://www.pawomenwork.org/wp-content/uploads/2026/03/COMMUNITY-EVENTS.jpg
END:VEVENT
END:VCALENDAR